BEGIN:VCALENDAR
VERSION:2.0
PRODID:-//ChamberMaster//Event Calendar 2.0//EN
METHOD:PUBLISH
X-PUBLISHED-TTL:P3D
REFRESH-INTERVAL:P3D
CALSCALE:GREGORIAN
BEGIN:VEVENT
DTSTART:20191011T003000Z
DTEND:20191011T013000Z
X-MICROSOFT-CDO-ALLDAYEVENT:FALSE
SUMMARY:Wind Ensemble Concert
DESCRIPTION:Come 'Join in the Music' as UNK's audition-only Wind Ensemble performs a concert. This group provides "the best wind literature available at the university level." Recitals will be live streamed at the following link: http://www.unk.edu/academics/music/performing-art-live-stream-events.php
X-ALT-DESC;FMTTYPE=text/html:Come &#39\;Join in the Music&#39\; as UNK&#39\;s audition-only Wind Ensemble performs a concert. This group provides &ldquo\;the best wind literature available at the university level.&rdquo\; Recitals will be live streamed at the following link: http://www.unk.edu/academics/music/performing-art-live-stream-events.php
LOCATION:UNK FAB Recital Hall
UID:e.1404.16624
SEQUENCE:3
DTSTAMP:20260425T163553Z
URL:https://members.kearneycoc.org/events/details/wind-ensemble-concert-16624
END:VEVENT

END:VCALENDAR
