BEGIN:VCALENDAR
VERSION:2.0
PRODID:-//ChamberMaster//Event Calendar 2.0//EN
METHOD:PUBLISH
X-PUBLISHED-TTL:P3D
REFRESH-INTERVAL:P3D
CALSCALE:GREGORIAN
BEGIN:VEVENT
DTSTART:20130212T173000Z
DTEND:20130212T190000Z
X-MICROSOFT-CDO-ALLDAYEVENT:FALSE
SUMMARY:Windows 8 / Modern Tools for Business
DESCRIPTION:Windows 8\, Modern Tools for Business\n\n \n\n\n	February 12th\n	11:30-1:00pm\n	$15.00\n	Lunch is provided\n\n\nThe much hyped and anticipated release of Windows 8 is finally here!  Windows 8 is being touted as the best version of Windows ever!  Windows has a new\, beautiful\, fast\, and fluid design.  With Windows 8 you can use touch\, mouse\, and keyboard together\, seamlessly\, to do what you want\, the way you want.  The Kearney Area Chamber of Commerce\, in conjunction with Microsoft and Intellicom will be hosting a live demo of Windows 8 on Feb 12th at noon at the Kearney Area Chamber of Commerce building.  Space is limited.  Lunch will be provided and Microsoft will be providing some great raffle prizes.  Contact Leslie Means at (308) 237-4671 or lmeans@kearneycoc.org to register.
X-ALT-DESC;FMTTYPE=text/html:<p style="margin-top: 0px\; font-family: Arial\,Helvetica\,sans-serif\; margin-bottom: 0px\; text-align: left\;"><span style="text-decoration: underline\; font-size: 16px\;"><strong>Windows 8\, Modern Tools for Business</strong></span></p>\n\n<p style="margin-top: 0px\; font-family: Arial\,Helvetica\,sans-serif\; margin-bottom: 0px\; text-align: left\;">&nbsp\;</p>\n\n<ul>\n	<li><span style="font-size: 13px\;"><strong>February 12<sup>th</sup></strong></span></li>\n	<li><span style="font-size: 13px\;"><strong>11:30-1:00pm</strong></span></li>\n	<li><span style="font-size: 13px\;"><strong>$15.00</strong></span></li>\n	<li><span style="font-size: 13px\;"><strong>Lunch is provided</strong></span></li>\n</ul>\n\n<p>The much hyped and anticipated release of Windows 8 is finally here!&nbsp\; Windows 8 is being touted as the best version of Windows ever!&nbsp\; Windows has a new\, beautiful\, fast\, and fluid design.&nbsp\; With Windows 8 you can use touch\, mouse\, and keyboard together\, seamlessly\, to do what you want\, the way you want.&nbsp\; The Kearney Area Chamber of Commerce\, in conjunction with Microsoft and Intellicom will be hosting a live demo of Windows 8&nbsp\;on Feb 12<sup>th</sup> at noon at the Kearney Area Chamber of Commerce building.&nbsp\; Space is limited.&nbsp\; Lunch will be provided and Microsoft will be providing some great raffle prizes.&nbsp\; Contact Leslie Means at (308) 237-4671 or <a href="mailto:lmeans@kearneycoc.org" title="blocked::mailto:lmeans@kearneycoc.org">lmeans@kearneycoc.org</a> to register.&nbsp\;</p>\n
LOCATION:
UID:e.1404.2216
SEQUENCE:3
DTSTAMP:20260424T155744Z
URL:https://members.kearneycoc.org/events/details/windows-8-modern-tools-for-business-02-12-2013-2216
END:VEVENT

END:VCALENDAR
