BEGIN:VCALENDAR
VERSION:2.0
PRODID:-//ChamberMaster//Event Calendar 2.0//EN
METHOD:PUBLISH
X-PUBLISHED-TTL:P3D
REFRESH-INTERVAL:P3D
CALSCALE:GREGORIAN
BEGIN:VEVENT
DTSTART:20140612T133000Z
DTEND:20140612T170000Z
X-MICROSOFT-CDO-ALLDAYEVENT:FALSE
SUMMARY:Winning with Your Team! Chamber Business Training
DESCRIPTION:Winning with Your Team!\n\n \nJosh Erickson\, master team builder\, will help you build your business team.  In this morning training\, Josh will teach you the 4 Factors of Team Success! \n\n \n\nHow to increase EFFORT!\n\nHow to bring people into UNITY!\n\nHow to identify and develop SKILL!\n\nHow to promote your team's level of EXECUTION!\n\n \n\n\nABOUT JOSH ERICKSON\n\n \n\nJosh is a master team builder. For the last 15 years he has been impacting teams: businesses\, schools\, colleges\, churches\, non-profits and athletic teams at all levels. Josh will teach you how to win with your team.\n\n \n\nJosh is a Kearney native and well known throughout the business community.  He can help build your business team!  For more information\, check out his website Team Concepts.  \n\n\n\nWe thank our sponsor of this training - Best Western Plus Mid Nebraska Inn & Suites!
X-ALT-DESC;FMTTYPE=text/html:<div><b style="color: rgb(0\, 0\, 0)\; line-height: normal\; font-family: Helvetica\, Arial\, sans-serif\; font-size: 12px\;"><u>Winning with Your Team!</u></b><br />\n&nbsp\;\n<p _mce_style="color: #000000\; margin-top: 0px\; margin-bottom: 0px\;" style="color: rgb(0\, 0\, 0)\; line-height: normal\; font-family: Arial\, Helvetica\, sans-serif\; font-size: 12px\; margin-top: 0px\; margin-bottom: 0px\;"><font size="2">Josh Erickson\, master team builder\, will help you build your business team.&nbsp\; In this morning training\, Josh will teach you the 4 Factors of Team Success!&nbsp\;</font></p>\n\n<p _mce_style="color: #000000\; margin-top: 0px\; margin-bottom: 0px\;" style="color: rgb(0\, 0\, 0)\; line-height: normal\; font-family: Arial\, Helvetica\, sans-serif\; font-size: 12px\; margin-top: 0px\; margin-bottom: 0px\;"><font size="2">&nbsp\;</font></p>\n\n<p _mce_style="color: #000000\; margin-top: 0px\; margin-bottom: 0px\;" style="color: rgb(0\, 0\, 0)\; line-height: normal\; font-family: Arial\, Helvetica\, sans-serif\; font-size: 12px\; margin-top: 0px\; margin-bottom: 0px\;"><font size="2">How to increase&nbsp\;EFFORT!</font></p>\n\n<p _mce_style="color: #000000\; margin-top: 0px\; margin-bottom: 0px\;" style="color: rgb(0\, 0\, 0)\; line-height: normal\; font-family: Arial\, Helvetica\, sans-serif\; font-size: 12px\; margin-top: 0px\; margin-bottom: 0px\;"><font size="2">How to bring people into&nbsp\;UNITY!</font></p>\n\n<p _mce_style="color: #000000\; margin-top: 0px\; margin-bottom: 0px\;" style="color: rgb(0\, 0\, 0)\; line-height: normal\; font-family: Arial\, Helvetica\, sans-serif\; font-size: 12px\; margin-top: 0px\; margin-bottom: 0px\;"><font size="2">How to identify and develop&nbsp\;SKILL!</font></p>\n\n<p _mce_style="color: #000000\; margin-top: 0px\; margin-bottom: 0px\;" style="color: rgb(0\, 0\, 0)\; line-height: normal\; font-family: Arial\, Helvetica\, sans-serif\; font-size: 12px\; margin-top: 0px\; margin-bottom: 0px\;"><font size="2">How to promote your team&#39\;s level of&nbsp\;EXECUTION!</font><br />\n&nbsp\;</p>\n\n<div>\n<p _mce_style="margin-top: 0px\; margin-bottom: 0px\;" style="color: rgb(0\, 0\, 0)\; line-height: normal\; font-family: Arial\, Helvetica\, sans-serif\; font-size: 16px\; margin-top: 0px\; margin-bottom: 0px\;"><b><u>ABOUT JOSH ERICKSON</u></b></p>\n\n<p _mce_style="margin-top: 0px\; margin-bottom: 0px\;" style="color: rgb(0\, 0\, 0)\; line-height: normal\; font-family: Arial\, Helvetica\, sans-serif\; font-size: 12px\; margin-top: 0px\; margin-bottom: 0px\;"><font size="2">&nbsp\;</font></p>\n\n<p _mce_style="margin-top: 0px\; margin-bottom: 0px\;" style="color: rgb(0\, 0\, 0)\; line-height: normal\; font-family: Arial\, Helvetica\, sans-serif\; font-size: 12px\; margin-top: 0px\; margin-bottom: 0px\;"><font size="2">Josh is a master team builder. For the last 15 years he has been impacting teams: businesses\, schools\, colleges\, churches\, non-profits and athletic teams at all levels. Josh will teach you how to win with your team.</font></p>\n\n<p _mce_style="margin-top: 0px\; margin-bottom: 0px\;" style="color: rgb(0\, 0\, 0)\; line-height: normal\; font-family: Arial\, Helvetica\, sans-serif\; font-size: 12px\; margin-top: 0px\; margin-bottom: 0px\;"><font size="2">&nbsp\;</font></p>\n\n<p _mce_style="margin-top: 0px\; margin-bottom: 0px\;" style="color: rgb(0\, 0\, 0)\; line-height: normal\; font-family: Arial\, Helvetica\, sans-serif\; font-size: 12px\; margin-top: 0px\; margin-bottom: 0px\;"><font size="2">Josh is a Kearney native and well known throughout the business community.&nbsp\; He can help build your&nbsp\;business team!&nbsp\; For more information\, check out his website&nbsp\;<a _mce_href="http://www.teamconcepts.co/" _mce_shape="rect" _mce_style="color: blue\; text-decoration: underline\;" href="http://www.teamconcepts.co/" linktype="1" shape="rect" style="color: rgb(0\, 51\, 102)\;" target="_blank" track="on">Team Concepts</a>.&nbsp\;</font><font color="#555555" size="3">&nbsp\;</font><br />\n<br />\n<a href="http://www.kearneycoc.org/Education/ChamberYOUniversity/tabid/68/ctl/Edit/mid/387/We%20thank%20our%20sponsor%20-%20Best%20Western%20Plus%20Mid%20Nebraska%20Inn%20&amp\;%20Suites!" style="color: rgb(0\, 51\, 102)\; line-height: normal\; font-family: Helvetica\, Arial\, sans-serif\; font-size: large\; text-decoration: none\;">We thank our sponsor of this training - Best Western Plus Mid Nebraska Inn &amp\; Suites!</a></p>\n</div>\n</div>\n
LOCATION:Best Western Plus Mid Nebraska Inn & Suites 224 Second Ave South\, Kearney
UID:e.1404.4696
SEQUENCE:3
DTSTAMP:20260423T113937Z
URL:https://members.kearneycoc.org/events/details/winning-with-your-team-chamber-business-training-06-12-2014-4696
END:VEVENT

END:VCALENDAR
