BEGIN:VCALENDAR
VERSION:2.0
PRODID:-//ChamberMaster//Event Calendar 2.0//EN
METHOD:PUBLISH
X-PUBLISHED-TTL:P3D
REFRESH-INTERVAL:P3D
CALSCALE:GREGORIAN
BEGIN:VEVENT
DTSTART:20160110T180000Z
DTEND:20160111T000000Z
X-MICROSOFT-CDO-ALLDAYEVENT:FALSE
SUMMARY:Winter Sidewalk Sales
DESCRIPTION:Winter Sidewalk Sales are Friday-Sunday! Don't miss this weekend's cool savings on Winter and Fall styles at Hilltop Mall. Friday January 8th - Sunday January 10th.
X-ALT-DESC;FMTTYPE=text/html:<span style="line-height: 20.8px\;">Winter Sidewalk Sales are Friday-Sunday! Don&#39\;t miss this weekend&#39\;s cool savings on Winter and Fall styles at Hilltop Mall. Friday January 8th - Sunday January&nbsp\;</span>10th<span style="line-height: 20.8px\;">.</span>
LOCATION:Hilltop Mall
UID:e.1404.7252
SEQUENCE:3
DTSTAMP:20260422T050223Z
URL:https://members.kearneycoc.org/events/details/winter-sidewalk-sales-01-10-2016-7252
END:VEVENT

END:VCALENDAR
