BEGIN:VCALENDAR
VERSION:2.0
PRODID:-//ChamberMaster//Event Calendar 2.0//EN
METHOD:PUBLISH
X-PUBLISHED-TTL:P3D
REFRESH-INTERVAL:P3D
CALSCALE:GREGORIAN
BEGIN:VEVENT
DTSTART:20191018T130000Z
DTEND:20191018T203000Z
X-MICROSOFT-CDO-ALLDAYEVENT:FALSE
SUMMARY:Women's Leadercast
DESCRIPTION:This one day event features a live simulcast of 9 women speakers. This year theme is Take Courage. Speakers include: Priya Parker\, Laura Ling\, Luvvie Ajayl\, Susan Packard\, Deshauna Barber\, Kate Delaney\, Kendra Scott and Glennon Doyle. You don't want to miss a day to hear great speakers and network with others leaders.
X-ALT-DESC;FMTTYPE=text/html:This one day event features a live simulcast of 9 women speakers. This year theme is Take Courage. Speakers include: Priya Parker\, Laura Ling\, Luvvie Ajayl\, Susan Packard\, Deshauna Barber\, Kate Delaney\, Kendra Scott and Glennon Doyle. You don&#39\;t want to miss a day to hear great speakers and network with others leaders.
LOCATION:Central Community College Kearney\, Hastings and Ord
UID:e.1404.16604
SEQUENCE:3
DTSTAMP:20260425T163825Z
URL:https://members.kearneycoc.org/events/details/women-s-leadercast-16604
END:VEVENT

END:VCALENDAR
