BEGIN:VCALENDAR
VERSION:2.0
PRODID:-//ChamberMaster//Event Calendar 2.0//EN
METHOD:PUBLISH
X-PUBLISHED-TTL:P3D
REFRESH-INTERVAL:P3D
CALSCALE:GREGORIAN
BEGIN:VEVENT
DTSTART:20160414T153000Z
DTEND:20160414T163000Z
X-MICROSOFT-CDO-ALLDAYEVENT:FALSE
SUMMARY:WorkWell "The Business Case to Support Breastfeeding" Webinar
DESCRIPTION:Worksite support is one of the top factors in a mother's choice to continue breastfeeding. Join other Nebraska employers to become educated on the Nebraska laws and standards\, learn the benefits of supporting breastfeeding mothers\, and receive tools and local resources to start or enhance your current breastfeeding support practices.
X-ALT-DESC;FMTTYPE=text/html:<span style="font-size:14px\;"><span style="font-family:arial\;"><span style="color:#303030\;">Worksite support is one of the top factors in a mother&#39\;s choice to continue breastfeeding. Join other Nebraska employers to become educated on the Nebraska laws and standards\, learn the benefits of supporting breastfeeding mothers\, and receive tools and local resources to start or enhance your current breastfeeding support practices.</span></span></span>
LOCATION:Webinar
UID:e.1404.8713
SEQUENCE:3
DTSTAMP:20260421T234114Z
URL:https://members.kearneycoc.org/events/details/workwell-the-business-case-to-support-breastfeeding-webinar-04-14-2016-8713
END:VEVENT

END:VCALENDAR
