BEGIN:VCALENDAR
VERSION:2.0
PRODID:-//ChamberMaster//Event Calendar 2.0//EN
METHOD:PUBLISH
X-PUBLISHED-TTL:P3D
REFRESH-INTERVAL:P3D
CALSCALE:GREGORIAN
BEGIN:VEVENT
DTSTART:20121114T220000Z
DTEND:20121115T010000Z
X-MICROSOFT-CDO-ALLDAYEVENT:FALSE
SUMMARY:Wynk: 5 Year Anniversary Celebration
DESCRIPTION:Help Wynk Boutique celebrate their 5 year anniversary. They will be celebrating from 4-7 with specials throughout the store along with hors d'oeuvres and refreshments.
X-ALT-DESC;FMTTYPE=text/html:Help Wynk Boutique celebrate their 5 year anniversary. They will be celebrating from 4-7 with specials throughout the store along with hors d&#39\;oeuvres and refreshments.
LOCATION:Wynk Boutique 5012 3rd Avenue Kearney\, NE
UID:e.1404.2211
SEQUENCE:3
DTSTAMP:20260424T204748Z
URL:https://members.kearneycoc.org/events/details/wynk-5-year-anniversary-celebration-11-14-2012-2211
END:VEVENT

END:VCALENDAR
