BEGIN:VCALENDAR
VERSION:2.0
PRODID:-//ChamberMaster//Event Calendar 2.0//EN
METHOD:PUBLISH
X-PUBLISHED-TTL:P3D
REFRESH-INTERVAL:P3D
CALSCALE:GREGORIAN
BEGIN:VEVENT
DTSTART:20130530T003000Z
DTEND:20130530T023000Z
X-MICROSOFT-CDO-ALLDAYEVENT:FALSE
SUMMARY:Y102 Presents MOH Gone Country - Brad Colerick
DESCRIPTION:Y102 presents "MOH Gone Country"\n\n	\n\n	In this summer country music series\, MOH features performers with roots in and around Nebraska. Kicking off the series is Nebraska-born Brad Colerick returns to MOH. June 13 features country duo Brasher & Bogue and Hubbell\, NE native Lucas Hoge rounding out the series on July 25. \n\n	\n\n	May 29th: Brad Colerick\n\n	June 13th:Brasher/Bogue  -  With an opening acoustic performance by Whiskey Bent\n\n	July 25th: Lucas Hoge\n\n	\n\n	3 shows for $30 or $12 each
X-ALT-DESC;FMTTYPE=text/html:<p class="MsoNormal" style="margin-bottom: 0.0001pt\;">\n	&nbsp\;</p>\n<p class="MsoNormal" style="margin-bottom: 0.0001pt\;">\n	<span style="font-size: 7pt\; font-family: Arial\, sans-serif\; background-position: initial initial\; background-repeat: initial initial\;">Y102 presents &quot\;MOH Gone Country&quot\;</span><br />\n	<br />\n	<span style="font-size: 7pt\; font-family: Arial\, sans-serif\;"><span style="background-position: initial initial\; background-repeat: initial initial\;">In this summer country music series\, MOH features performers with roots in and around Nebraska. Kicking off the series is Nebraska-born Brad Colerick returns to MOH. June 13 features country duo Brasher &amp\; Bogue and Hubbell\, NE native Lucas Hoge rounding out the series on July 25.&nbsp\;</span><br />\n	<br />\n	<span style="background-position: initial initial\; background-repeat: initial initial\;">May 29th: Brad Colerick</span><br />\n	<span style="background-position: initial initial\; background-repeat: initial initial\;">June 13th:Brasher/Bogue&nbsp\; -&nbsp\; With an opening acoustic performance by Whiskey Bent</span></span><br />\n	<span style="font-family: Arial\, sans-serif\; font-size: 7pt\;">July 25th: Lucas Hoge<br />\n	<br />\n	3 shows for $30 or $12 each</span></p>\n
LOCATION:Minden Opera House
UID:e.1404.3173
SEQUENCE:3
DTSTAMP:20260424T104101Z
URL:https://members.kearneycoc.org/events/details/y102-presents-moh-gone-country-brad-colerick-05-29-2013-3173
END:VEVENT

END:VCALENDAR
