BEGIN:VCALENDAR
VERSION:2.0
PRODID:-//ChamberMaster//Event Calendar 2.0//EN
METHOD:PUBLISH
X-PUBLISHED-TTL:P3D
REFRESH-INTERVAL:P3D
CALSCALE:GREGORIAN
BEGIN:VEVENT
DTSTART:20130726T003000Z
DTEND:20130726T023000Z
X-MICROSOFT-CDO-ALLDAYEVENT:FALSE
SUMMARY:Y102 Presents MOH Gone Country - Lucas Hoge
DESCRIPTION:Y102 presents "MOH Gone Country"\n\n\n\nIn this summer country music series\, MOH features performers with roots in and around Nebraska. Kicking off the series is Nebraska-born Brad Colerick returns to MOH. June 13 features country duo Brasher & Bogue and Hubbell\, NE native Lucas Hoge rounding out the series on July 25. \n\n\n\nMay 29th: Brad Colerick\n\nJune 13th:Brasher/Bogue  -  With an opening acoustic performance by Whiskey Bent\n\nJuly 25th: Lucas Hoge\n\n\n\n3 shows for $30 or $12 each
X-ALT-DESC;FMTTYPE=text/html:<span style="font-size: 7pt\; font-family: Arial\, sans-serif\;">Y102 presents &quot\;MOH Gone Country&quot\;</span><br />\n<br />\n<span style="font-size: 7pt\; font-family: Arial\, sans-serif\;">In this summer country music series\, MOH features performers with roots in and around Nebraska. Kicking off the series is Nebraska-born Brad Colerick returns to MOH. June 13 features country duo Brasher &amp\; Bogue and Hubbell\, NE native Lucas Hoge rounding out the series on July 25.&nbsp\;<br />\n<br />\nMay 29th: Brad Colerick<br />\nJune 13th:Brasher/Bogue&nbsp\; -&nbsp\; With an opening acoustic performance by Whiskey Bent</span><br />\n<span style="font-family: Arial\, sans-serif\; font-size: 7pt\;">July 25th: Lucas Hoge<br />\n<br />\n3 shows for $30 or $12 each</span>
LOCATION:Minden Opera House
UID:e.1404.3175
SEQUENCE:3
DTSTAMP:20260424T061212Z
URL:https://members.kearneycoc.org/events/details/y102-presents-moh-gone-country-lucas-hoge-07-25-2013-3175
END:VEVENT

END:VCALENDAR
