BEGIN:VCALENDAR
VERSION:2.0
PRODID:-//ChamberMaster//Event Calendar 2.0//EN
METHOD:PUBLISH
X-PUBLISHED-TTL:P3D
REFRESH-INTERVAL:P3D
CALSCALE:GREGORIAN
BEGIN:VEVENT
DTSTART:20190116T161500Z
DTEND:20190306T170000Z
X-MICROSOFT-CDO-ALLDAYEVENT:FALSE
SUMMARY:Yoga at MONA
DESCRIPTION:YOGA AT MONA with Marsha Yeagley\, RYT 200\, RYT 500\, YACEP Yoga Alliance Combine the unique energy of the visual arts with a physical and spiritual experience. For this progressive yoga\, no previous experience is required and all levels are welcome. Participants must be able to move from standing to floor poses without difficulty. Practice basic yoga asana\, pranayama\, meditation\, and relaxation. Marsha is also certified in Yoga for heart disease\, meditation\, and trained for strengthening bones through Yoga. Please provide your own yoga mat and props. Two Sessions: (1) Wednesdays: January 16\, 23\, 30\, February 6\, 13\, 20\, 27\, March 6 (8 weeks) (2) Wednesdays: March 27\, April 3\, 10\, 17\, 24\, May 1 (6 weeks) Time: 10:15-11:00 a.m. Age: 18+ Cost: $70 for eight sessions (members)\, $80 (non-members)\; $50 for six sessions (MONA members)\, $60 (non-members) $10 drop-in rate for a single session Register by: Tuesday\, January 15 (Session 1)\; Tuesday March 26 (Session 2)\; payment is due with registration.
X-ALT-DESC;FMTTYPE=text/html:YOGA AT MONA with Marsha Yeagley\, RYT 200\, RYT 500\, YACEP Yoga Alliance Combine the unique energy of the visual arts with a physical and spiritual experience. For this progressive yoga\, no previous experience is required and all levels are welcome. Participants must be able to move from standing to floor poses without difficulty. Practice basic yoga asana\, pranayama\, meditation\, and relaxation. Marsha is also certified in Yoga for heart disease\, meditation\, and trained for strengthening bones through Yoga. Please provide your own yoga mat and props. Two Sessions: (1) Wednesdays: January 16\, 23\, 30\, February 6\, 13\, 20\, 27\, March 6 (8 weeks) (2) Wednesdays: March 27\, April 3\, 10\, 17\, 24\, May 1 (6 weeks) Time: 10:15-11:00 a.m. Age: 18+ Cost: $70 for eight sessions (members)\, $80 (non-members)\; $50 for six sessions (MONA members)\, $60 (non-members) $10 drop-in rate for a single session Register by: Tuesday\, January 15 (Session 1)\; Tuesday March 26 (Session 2)\; payment is due with registration.
LOCATION:Museum of Nebraska Art 2401 Central Avenue Kearney\, NE 68847 (308) 865-8559
UID:e.1404.14419
SEQUENCE:3
DTSTAMP:20260426T033151Z
URL:https://members.kearneycoc.org/events/details/yoga-at-mona-01-16-2019-14419
END:VEVENT

END:VCALENDAR
