BEGIN:VCALENDAR
VERSION:2.0
PRODID:-//ChamberMaster//Event Calendar 2.0//EN
METHOD:PUBLISH
X-PUBLISHED-TTL:P3D
REFRESH-INTERVAL:P3D
CALSCALE:GREGORIAN
BEGIN:VEVENT
DTSTART;VALUE=DATE:20211018
DTEND;VALUE=DATE:20211023
TRANSP:TRANSPARENT
X-MICROSOFT-CDO-ALLDAYEVENT:TRUE
SUMMARY:Young Professionals Week
DESCRIPTION:YPN Week
X-ALT-DESC;FMTTYPE=text/html:YPN Week&nbsp\;
LOCATION:
UID:e.1404.19410
SEQUENCE:3
DTSTAMP:20260423T230955Z
URL:https://members.kearneycoc.org/events/details/young-professionals-week-19410
END:VEVENT

END:VCALENDAR
