BEGIN:VCALENDAR
VERSION:2.0
PRODID:-//ChamberMaster//Event Calendar 2.0//EN
METHOD:PUBLISH
X-PUBLISHED-TTL:P3D
REFRESH-INTERVAL:P3D
CALSCALE:GREGORIAN
BEGIN:VEVENT
DTSTART:20130329T000000Z
DTEND:20130329T040000Z
X-MICROSOFT-CDO-ALLDAYEVENT:FALSE
SUMMARY:Your Real World
DESCRIPTION:The Nebraska AIDS Project\, PFLAG Kearney and the Department of Education are coming together to host a fun evening for all middle schoolers and high schools\, ages 13-19\, at the World Theater and Krave Underground.  First\, at the World Theater from 7pm-9pm\, will be a showing of the film "Pedro\," the story of a young man chosen to star on MTV's The Real World and his journey to find health\, happiness and acceptance.  Following the movie from 9-11pm will be a sponsored dance at Krave Underground with fun prizes and giveaways.  The movie is free and so is the dance with your ticket stub from the movie.  If you can't make it to the movie\, the entrance fee for the dance will be $4.00.  Parents are welcome to attend too!
X-ALT-DESC;FMTTYPE=text/html:The Nebraska AIDS Project\, PFLAG Kearney and the Department of Education are coming together to host a fun evening for all middle schoolers and high schools\, ages 13-19\, at the World Theater and Krave Underground.&nbsp\; First\, at the World Theater from 7pm-9pm\, will be a showing of the film &quot\;Pedro\,&quot\; the story of a young man chosen to star on MTV&#39\;s <em>The Real World</em> and his journey to find health\, happiness and acceptance.&nbsp\; Following the movie from 9-11pm will be a sponsored dance at Krave Underground with fun prizes and giveaways.&nbsp\; The movie is free and so is the dance with your ticket stub from the movie.&nbsp\; If you can&#39\;t make it to the movie\, the entrance fee for the dance will be $4.00.&nbsp\; Parents are welcome to attend too!
LOCATION:The World Theater and Krave Underground
UID:e.1404.2255
SEQUENCE:3
DTSTAMP:20260424T140452Z
URL:https://members.kearneycoc.org/events/details/your-real-world-03-28-2013-2255
END:VEVENT

END:VCALENDAR
