BEGIN:VCALENDAR
VERSION:2.0
PRODID:-//ChamberMaster//Event Calendar 2.0//EN
METHOD:PUBLISH
X-PUBLISHED-TTL:P3D
REFRESH-INTERVAL:P3D
CALSCALE:GREGORIAN
BEGIN:VEVENT
DTSTART:20211018T113000Z
DTEND:20211018T130000Z
X-MICROSOFT-CDO-ALLDAYEVENT:FALSE
SUMMARY:YP Wake Up
DESCRIPTION:Oct. 18\, 6:30-8 am\n\nBaristas (by UNK) \n\nCome anytime between 6:30 am and 8:00 am. We will buy your drink! Steve Zimmerman from Parker Hannifin will be speaking at 7:00 am.
X-ALT-DESC;FMTTYPE=text/html:<p dir="ltr" style="line-height:1.2\;margin-top:0pt\;margin-bottom:0pt\;"><span id="docs-internal-guid-01a1c155-7fff-6dab-82d2-e578d919d2f1"><span style="font-size: 12.5pt\; font-family: Arial\; color: rgb(0\, 0\, 0)\; background-color: transparent\; font-weight: 700\; font-variant-numeric: normal\; font-variant-east-asian: normal\; vertical-align: baseline\; white-space: pre-wrap\;">Oct. 18\, 6:30-8 am</span></span></p>\n\n<p dir="ltr" style="line-height:1.2\;margin-top:0pt\;margin-bottom:0pt\;"><span id="docs-internal-guid-01a1c155-7fff-6dab-82d2-e578d919d2f1"><span style="font-size: 12.5pt\; font-family: Arial\; color: rgb(0\, 0\, 0)\; background-color: transparent\; font-weight: 700\; font-variant-numeric: normal\; font-variant-east-asian: normal\; vertical-align: baseline\; white-space: pre-wrap\;">Baristas (by UNK)&nbsp\;</span></span></p>\n\n<p dir="ltr" style="line-height:1.38\;margin-top:0pt\;margin-bottom:0pt\;"><span id="docs-internal-guid-01a1c155-7fff-6dab-82d2-e578d919d2f1"><span style="font-size: 12pt\; font-family: Arial\; color: rgb(0\, 0\, 0)\; background-color: transparent\; font-style: italic\; font-variant-numeric: normal\; font-variant-east-asian: normal\; vertical-align: baseline\; white-space: pre-wrap\;">Come anytime between 6:30 am and 8:00 am. We will buy your drink! Steve Zimmerman from Parker Hannifin will be speaking at 7:00 am. </span></span></p>\n\n<div>&nbsp\;</div>\n
LOCATION:
UID:e.1404.19411
SEQUENCE:3
DTSTAMP:20260423T230804Z
URL:https://members.kearneycoc.org/events/details/yp-wake-up-19411
END:VEVENT

END:VCALENDAR
