BEGIN:VCALENDAR
VERSION:2.0
PRODID:-//ChamberMaster//Event Calendar 2.0//EN
METHOD:PUBLISH
X-PUBLISHED-TTL:P3D
REFRESH-INTERVAL:P3D
CALSCALE:GREGORIAN
BEGIN:VEVENT
DTSTART:20211019T223000Z
DTEND:20211020T003000Z
X-MICROSOFT-CDO-ALLDAYEVENT:FALSE
SUMMARY:YP Week - Behind the Business
DESCRIPTION:Oct. 19\, 5:30 pm\n\n			McCues Building\, Downtown Kearney \n\n			Join us for a tour of the McCue's Building to hear about the history of the building and how it was transformed into the different amenities today! A social to follow at McCue's Taproom!
X-ALT-DESC;FMTTYPE=text/html:<div align="left" dir="ltr" style="margin-left:0pt\;">\n<table style="border:none\;border-collapse:collapse\;">\n	<colgroup>\n		<col width="170" />\n		<col width="454" />\n	</colgroup>\n	<tbody>\n		<tr style="height:0pt">\n			<td style="border-left:solid #000000 1pt\;border-right:solid #000000 1pt\;border-bottom:solid #000000 1pt\;border-top:solid #000000 1pt\;vertical-align:top\;padding:5pt 5pt 5pt 5pt\;overflow:hidden\;overflow-wrap:break-word\;">\n			<p dir="ltr" style="line-height:1.2\;margin-top:0pt\;margin-bottom:0pt\;"><span id="docs-internal-guid-6fe4222b-7fff-eba8-b571-5b58fb0a17f6"><span style="font-size: 12.5pt\; font-family: Arial\; color: rgb(0\, 0\, 0)\; background-color: transparent\; font-weight: 700\; font-variant-numeric: normal\; font-variant-east-asian: normal\; vertical-align: baseline\; white-space: pre-wrap\;">Oct. 19\, 5:30 pm</span></span></p>\n\n			<p dir="ltr" style="line-height:1.2\;margin-top:0pt\;margin-bottom:0pt\;"><span id="docs-internal-guid-6fe4222b-7fff-eba8-b571-5b58fb0a17f6"><span style="font-size: 12.5pt\; font-family: Arial\; color: rgb(0\, 0\, 0)\; background-color: transparent\; font-weight: 700\; font-variant-numeric: normal\; font-variant-east-asian: normal\; vertical-align: baseline\; white-space: pre-wrap\;">McCues Building\, Downtown Kearney&nbsp\;</span></span></p>\n\n			<p dir="ltr" style="line-height:1.38\;margin-top:0pt\;margin-bottom:0pt\;"><span id="docs-internal-guid-6fe4222b-7fff-eba8-b571-5b58fb0a17f6"><span style="font-size: 12pt\; font-family: Arial\; color: rgb(0\, 0\, 0)\; background-color: transparent\; font-style: italic\; font-variant-numeric: normal\; font-variant-east-asian: normal\; vertical-align: baseline\; white-space: pre-wrap\;">Join us for a tour of the McCue&rsquo\;s Building to hear about the history of the building and how it was transformed into the different amenities today! A social to follow at McCue&rsquo\;s Taproom!&nbsp\;</span></span></p>\n			</td>\n		</tr>\n	</tbody>\n</table>\n</div>\n
LOCATION:
UID:e.1404.19412
SEQUENCE:3
DTSTAMP:20260423T232600Z
URL:https://members.kearneycoc.org/events/details/yp-week-behind-the-business-19412
END:VEVENT

END:VCALENDAR
