BEGIN:VCALENDAR
VERSION:2.0
PRODID:-//ChamberMaster//Event Calendar 2.0//EN
METHOD:PUBLISH
X-PUBLISHED-TTL:P3D
REFRESH-INTERVAL:P3D
CALSCALE:GREGORIAN
BEGIN:VEVENT
DTSTART:20211023T000000Z
DTEND:20211023T020000Z
X-MICROSOFT-CDO-ALLDAYEVENT:FALSE
SUMMARY:YP Week - Strictly Social
DESCRIPTION:Oct. 22\, 7:00 pm - 9:00 pm\n\nAxe Holes \n\nThis will be a great evening with friends\, food and fun! YPN will provide pizza. Other bring-in food options are welcome\, and Axe Holes has a cash bar as well.  \n\nRegistration required
X-ALT-DESC;FMTTYPE=text/html:<p dir="ltr" style="line-height:1.2\;margin-top:0pt\;margin-bottom:0pt\;"><span id="docs-internal-guid-236d57cd-7fff-7b01-d4cc-c3e66ab12cab"><span style="font-size: 12.5pt\; font-family: Arial\; color: rgb(0\, 0\, 0)\; background-color: transparent\; font-weight: 700\; font-variant-numeric: normal\; font-variant-east-asian: normal\; vertical-align: baseline\; white-space: pre-wrap\;">Oct. 22\, 7:00 pm - 9:00 pm</span></span></p>\n\n<p dir="ltr" style="line-height:1.2\;margin-top:0pt\;margin-bottom:0pt\;"><span id="docs-internal-guid-236d57cd-7fff-7b01-d4cc-c3e66ab12cab"><span style="font-size: 12.5pt\; font-family: Arial\; color: rgb(0\, 0\, 0)\; background-color: transparent\; font-weight: 700\; font-variant-numeric: normal\; font-variant-east-asian: normal\; vertical-align: baseline\; white-space: pre-wrap\;">Axe Holes&nbsp\;</span></span></p>\n\n<p dir="ltr" style="line-height:1.38\;margin-top:0pt\;margin-bottom:0pt\;"><span id="docs-internal-guid-236d57cd-7fff-7b01-d4cc-c3e66ab12cab"><span style="font-size: 12pt\; font-family: Arial\; color: rgb(0\, 0\, 0)\; background-color: transparent\; font-style: italic\; font-variant-numeric: normal\; font-variant-east-asian: normal\; vertical-align: baseline\; white-space: pre-wrap\;">This will be a great evening with friends\, food and fun! YPN will provide pizza. Other bring-in food options are welcome\, and Axe Holes has a cash bar as well.&nbsp\;&nbsp\;</span></span></p>\n\n<p dir="ltr" style="line-height:1.2\;margin-top:0pt\;margin-bottom:0pt\;"><span id="docs-internal-guid-236d57cd-7fff-7b01-d4cc-c3e66ab12cab"><span style="font-size: 9.5pt\; font-family: Arial\; color: rgb(0\, 0\, 0)\; background-color: transparent\; font-style: italic\; font-variant-numeric: normal\; font-variant-east-asian: normal\; vertical-align: baseline\; white-space: pre-wrap\;">Registration required</span></span></p>\n\n<div>&nbsp\;</div>\n
LOCATION:
UID:e.1404.19415
SEQUENCE:3
DTSTAMP:20260423T232703Z
URL:https://members.kearneycoc.org/events/details/yp-week-strictly-social-10-22-2021-19415
END:VEVENT

END:VCALENDAR
