BEGIN:VCALENDAR
VERSION:2.0
PRODID:-//ChamberMaster//Event Calendar 2.0//EN
METHOD:PUBLISH
X-PUBLISHED-TTL:P3D
REFRESH-INTERVAL:P3D
CALSCALE:GREGORIAN
BEGIN:VEVENT
DTSTART:20211020T223000Z
DTEND:20211021T000000Z
X-MICROSOFT-CDO-ALLDAYEVENT:FALSE
SUMMARY:YP Week - Strictly Social
DESCRIPTION:Oct. 20\, 5:30 pm\n\n			Kearney Country Club (in clubhouse)\n\n			Show up anytime after 5:30 pm and network with old and new friends. Appetizers provided and a cash bar will also be available. Don't forget to bring a friend! \n\n			Registration required
X-ALT-DESC;FMTTYPE=text/html:<div align="left" dir="ltr" style="margin-left:0pt\;">\n<table style="border:none\;border-collapse:collapse\;">\n	<colgroup>\n		<col width="170" />\n		<col width="454" />\n	</colgroup>\n	<tbody>\n		<tr style="height:0pt">\n			<td style="border-left:solid #000000 1pt\;border-right:solid #000000 1pt\;border-bottom:solid #000000 1pt\;border-top:solid #000000 1pt\;vertical-align:top\;padding:5pt 5pt 5pt 5pt\;overflow:hidden\;overflow-wrap:break-word\;">\n			<p dir="ltr" style="line-height:1.2\;margin-top:0pt\;margin-bottom:0pt\;"><span id="docs-internal-guid-1cf7a830-7fff-877b-9f82-6466c8b80c11"><span style="font-size: 12.5pt\; font-family: Arial\; color: rgb(0\, 0\, 0)\; background-color: transparent\; font-weight: 700\; font-variant-numeric: normal\; font-variant-east-asian: normal\; vertical-align: baseline\; white-space: pre-wrap\;">Oct. 20\, 5:30 pm</span></span></p>\n\n			<p dir="ltr" style="line-height:1.2\;margin-top:0pt\;margin-bottom:0pt\;"><span id="docs-internal-guid-1cf7a830-7fff-877b-9f82-6466c8b80c11"><span style="font-size: 12.5pt\; font-family: Arial\; color: rgb(0\, 0\, 0)\; background-color: transparent\; font-weight: 700\; font-variant-numeric: normal\; font-variant-east-asian: normal\; vertical-align: baseline\; white-space: pre-wrap\;">Kearney Country Club (in clubhouse)</span></span></p>\n\n			<p dir="ltr" style="line-height:1.38\;margin-top:0pt\;margin-bottom:0pt\;"><span id="docs-internal-guid-1cf7a830-7fff-877b-9f82-6466c8b80c11"><span style="font-size: 12pt\; font-family: Arial\; color: rgb(0\, 0\, 0)\; background-color: transparent\; font-style: italic\; font-variant-numeric: normal\; font-variant-east-asian: normal\; vertical-align: baseline\; white-space: pre-wrap\;">Show up anytime after 5:30 pm and network with old and new friends. Appetizers provided and a cash bar will also be available. Don&rsquo\;t forget to bring a friend!&nbsp\;</span></span></p>\n\n			<p dir="ltr" style="line-height:1.38\;margin-top:0pt\;margin-bottom:0pt\;"><span id="docs-internal-guid-1cf7a830-7fff-877b-9f82-6466c8b80c11"><span style="font-size: 9.5pt\; font-family: Arial\; color: rgb(0\, 0\, 0)\; background-color: transparent\; font-style: italic\; font-variant-numeric: normal\; font-variant-east-asian: normal\; vertical-align: baseline\; white-space: pre-wrap\;">Registration required</span></span></p>\n			</td>\n		</tr>\n	</tbody>\n</table>\n</div>\n
LOCATION:
UID:e.1404.19413
SEQUENCE:3
DTSTAMP:20260423T231837Z
URL:https://members.kearneycoc.org/events/details/yp-week-strictly-social-19413
END:VEVENT

END:VCALENDAR
