BEGIN:VCALENDAR
VERSION:2.0
PRODID:-//ChamberMaster//Event Calendar 2.0//EN
METHOD:PUBLISH
X-PUBLISHED-TTL:P3D
REFRESH-INTERVAL:P3D
CALSCALE:GREGORIAN
BEGIN:VEVENT
DTSTART:20140609T164500Z
DTEND:20140609T180000Z
X-MICROSOFT-CDO-ALLDAYEVENT:FALSE
SUMMARY:YPN - Business Etiquette
DESCRIPTION:Informative and interactive presentation about the importance of proper business etiquette\, and how you can better represent yourself and your business.  Topics discussed will include use of name badges\, proper handshakes\, when and how to use your business card\, tips on how to interact in a group setting\, and  more.    This presentation will led by Brandon Benitz\, Transportation Safety Manager\, Nebraska Safety Center.\n\n\n\nThis event is Bring Your Own Lunch. Cookies and water will be provided. Please dress in professional attire if you wish to have your headshots taken. Please arrive promptly
X-ALT-DESC;FMTTYPE=text/html:<strong><span style="color:black\;"><span style="font-family:calibri\,sans-serif\;"><span style="font-size:11.0pt\;">Informative and interactive presentation about the importance of proper business etiquette\, and how you can better represent yourself and your business.&nbsp\; Topics discussed will include use of name badges\, proper handshakes\, when and how to use your business card\, tips on how to interact in a group setting\, and&nbsp\; more.&nbsp\; &nbsp\;&nbsp\;This presentation will led by Brandon Benitz\, </span></span></span></strong><strong><span style="color:black\;"><span style="font-family:calibri\,sans-serif\;"><span style="font-size:11.0pt\;">Transportation Safety Manager\, Nebraska Safety Center.<br />\n<br />\nThis event is Bring Your Own Lunch. Cookies and water will be provided. Please dress in professional attire if you wish to have your headshots taken. Please arrive promptly</span></span></span></strong>
LOCATION:Kearney Public Library Niobrara Room (upstairs) 2020 1st Avenue
UID:e.1404.4849
SEQUENCE:3
DTSTAMP:20260423T113842Z
URL:https://members.kearneycoc.org/events/details/ypn-business-etiquette-06-09-2014-4849
END:VEVENT

END:VCALENDAR
