BEGIN:VCALENDAR
VERSION:2.0
PRODID:-//ChamberMaster//Event Calendar 2.0//EN
METHOD:PUBLISH
X-PUBLISHED-TTL:P3D
REFRESH-INTERVAL:P3D
CALSCALE:GREGORIAN
BEGIN:VEVENT
DTSTART:20140606T223000Z
DTEND:20140607T003000Z
X-MICROSOFT-CDO-ALLDAYEVENT:FALSE
SUMMARY:YPN - First Friday\, The Cellar Bar & Grill
DESCRIPTION:First Friday is a monthly networking event\, allowing our members to get to know one another and build relationships with other young business professionals.
X-ALT-DESC;FMTTYPE=text/html:<span style="color: rgb(68\, 68\, 68)\; font-family: Arial\, Helvetica\, sans-serif\; font-size: 14px\; font-weight: bold\; line-height: 18.200000762939453px\;">First Friday is a monthly networking event\, allowing our members to get to know one another and build relationships with other young business professionals.&nbsp\;</span>
LOCATION:The Cellar Bar & Grill 3901 2nd Ave Kearney\, NE
UID:e.1404.4841
SEQUENCE:3
DTSTAMP:20260423T113842Z
URL:https://members.kearneycoc.org/events/details/ypn-first-friday-the-cellar-bar-grill-06-06-2014-4841
END:VEVENT

END:VCALENDAR
