BEGIN:VCALENDAR
VERSION:2.0
PRODID:-//ChamberMaster//Event Calendar 2.0//EN
METHOD:PUBLISH
X-PUBLISHED-TTL:P3D
REFRESH-INTERVAL:P3D
CALSCALE:GREGORIAN
BEGIN:VEVENT
DTSTART;VALUE=DATE:20140329
DTEND;VALUE=DATE:20140330
TRANSP:TRANSPARENT
X-MICROSOFT-CDO-ALLDAYEVENT:TRUE
SUMMARY:YPN - Habitat for Humanity Work Day
DESCRIPTION:Habitat for Humanity\n\nThe work day will start at 8am (for those doing the work\, not meal) at\n\nthe work site which is 815 Ave B. Be sure to wear old clothes that you\n\nwill be OK getting dirty in. All tools are provided\, but if someone has\n\na favorite hammer they use\, they can bring it.\n\n\n\nJust before 9am all workers (including those doing the meal) will head\n\nover to the warehouse (1815 1st Ave) for the devotional with coffee\,\n\njuice and rolls (that food will already be provided\, so we don't have to\n\ncover that). After that\, workers will head back over to the work site\n\nwhile the people doing the meal will stay back and prepare that for\n\nlunch at noon.
X-ALT-DESC;FMTTYPE=text/html:<span style="font-family: 'lucida grande'\, tahoma\, verdana\, arial\, sans-serif\; line-height: 18px\;">Habitat for Humanity</span><br style="font-family: 'lucida grande'\, tahoma\, verdana\, arial\, sans-serif\; line-height: 18px\;" />\n<span style="font-family: 'lucida grande'\, tahoma\, verdana\, arial\, sans-serif\; line-height: 18px\;">The work day will start at 8am (for those doing the work\, not meal) at</span><br style="font-family: 'lucida grande'\, tahoma\, verdana\, arial\, sans-serif\; line-height: 18px\;" />\n<span style="font-family: 'lucida grande'\, tahoma\, verdana\, arial\, sans-serif\; line-height: 18px\;">the work site which is 815 Ave B. Be sure to wear old clothes that&nbsp\;</span><span class="text_exposed_show" style="display: inline\; font-family: 'lucida grande'\, tahoma\, verdana\, arial\, sans-serif\; line-height: 18px\;">you<br />\nwill be OK getting dirty in. All tools are provided\, but if someone has<br />\na favorite hammer they use\, they can bring it.<br />\n<br />\nJust before 9am all workers (including those doing the meal) will head<br />\nover to the warehouse (1815 1st Ave) for the devotional with coffee\,<br />\njuice and rolls (that food will already be provided\, so we don&#39\;t have to<br />\ncover that). After that\, workers will head back over to the work site<br />\nwhile the people doing the meal will stay back and prepare that for<br />\nlunch at noon.</span>
LOCATION:815 Avenue B Kearney\, NE
UID:e.1404.4680
SEQUENCE:3
DTSTAMP:20260423T181212Z
URL:https://members.kearneycoc.org/events/details/ypn-habitat-for-humanity-work-day-03-29-2014-4680
END:VEVENT

END:VCALENDAR
