BEGIN:VCALENDAR
VERSION:2.0
PRODID:-//ChamberMaster//Event Calendar 2.0//EN
METHOD:PUBLISH
X-PUBLISHED-TTL:P3D
REFRESH-INTERVAL:P3D
CALSCALE:GREGORIAN
BEGIN:VEVENT
DTSTART:20141111T180000Z
DTEND:20141111T190000Z
X-MICROSOFT-CDO-ALLDAYEVENT:FALSE
SUMMARY:YPN Investment Forum
DESCRIPTION:Keep your calendars open for November 11th from 12-1 PM. There will be an investment forum where you will learn the basics of how to invest your money for the future.\n\n\n\nMore information coming soon!\n\n\n\n*Please note that this event is for the Kearney Area Chamber Members and their invited guests. For further information on membership\, or join us as a guest\, please call our office at 237-3101.
X-ALT-DESC;FMTTYPE=text/html:Keep your calendars open for November 11th from 12-1 PM. There will be an investment forum where you will learn the basics of how to invest your money for the future.<br />\n<br />\nMore information coming soon!<br />\n<br />\n*Please note that this event is for the Kearney Area Chamber Members and their invited guests. For further information on membership\, or join us as a guest\, please call our office at 237-3101.
LOCATION:Kearney Chamber of Commerce Conference Room
UID:e.1404.5392
SEQUENCE:3
DTSTAMP:20260423T034227Z
URL:https://members.kearneycoc.org/events/details/ypn-investment-forum-11-11-2014-5392
END:VEVENT

END:VCALENDAR
