BEGIN:VCALENDAR
VERSION:2.0
PRODID:-//ChamberMaster//Event Calendar 2.0//EN
METHOD:PUBLISH
X-PUBLISHED-TTL:P3D
REFRESH-INTERVAL:P3D
CALSCALE:GREGORIAN
BEGIN:VEVENT
DTSTART:20150223T180000Z
DTEND:20150223T190000Z
X-MICROSOFT-CDO-ALLDAYEVENT:FALSE
SUMMARY:YPN Lunch & Learn
DESCRIPTION:This YPN Lunch & Learn will focus on health\, and there will be three speakers. Each will talk about 15 minutes and then there will be some extra minutes for questions/comments. The speakers are--\n\n\n\nJennifer Beck\n\nWellness Advocate\n\ndoTERRA Essential Oils\n\ntheoilgrove@gmail.com\n\nLearn the basics of how doTERRA essential oils can be used in your everyday life to benefit the overall health and wellness of you and your family.\n\n\n\nKelsey Bair\n\nHy-Vee Dietician\n\nWill be discussing health snacking at the workplace\n\n\n\nDr. Tyler Kowalski \n\nChiropractor-Kowalski Chiropractic\n\nHe is going to talk about health in general and then specifically chiropractic health
X-ALT-DESC;FMTTYPE=text/html:This YPN Lunch &amp\; Learn will focus on health\, and there will be three speakers. Each will talk about 15 minutes and then there will be some extra minutes for questions/comments. The speakers are--<br />\n<br />\nJennifer Beck<br />\nWellness Advocate<br />\ndoTERRA Essential Oils<br />\ntheoilgrove@gmail.com<br />\nLearn the basics of how doTERRA essential oils can be used in your everyday life to benefit the overall health and wellness of you and your family.<br />\n<br />\nKelsey Bair<br />\nHy-Vee Dietician<br />\nWill be discussing health snacking at the workplace<br />\n<br />\nDr. Tyler Kowalski&nbsp\;<br />\nChiropractor-Kowalski Chiropractic<br />\nHe is going to talk about health in general and then specifically chiropractic health
LOCATION:Kearney Area Chamber of Commerce Board Room 1007 2nd Ave
UID:e.1404.6001
SEQUENCE:3
DTSTAMP:20260422T225346Z
URL:https://members.kearneycoc.org/events/details/ypn-lunch-learn-02-23-2015-6001
END:VEVENT

END:VCALENDAR
