BEGIN:VCALENDAR
VERSION:2.0
PRODID:-//ChamberMaster//Event Calendar 2.0//EN
METHOD:PUBLISH
X-PUBLISHED-TTL:P3D
REFRESH-INTERVAL:P3D
CALSCALE:GREGORIAN
BEGIN:VEVENT
DTSTART:20140930T170000Z
DTEND:20140930T180000Z
X-MICROSOFT-CDO-ALLDAYEVENT:FALSE
SUMMARY:YPN Lunch & Learn
DESCRIPTION:There are many new and exciting things happening at the University of Nebraska at Kearney that Chancellor Kristensen will discuss. This will be a very informative lunch with a leader that you will not want to miss.
X-ALT-DESC;FMTTYPE=text/html:There are many new and exciting things happening at the University of Nebraska at Kearney that Chancellor Kristensen will discuss. This will be a very informative lunch with a leader that you will not want to miss.
LOCATION:Kearney Chamber of Commerce Conference Room 1007 2nd Ave
UID:e.1404.5369
SEQUENCE:3
DTSTAMP:20260423T065603Z
URL:https://members.kearneycoc.org/events/details/ypn-lunch-learn-09-30-2014-5369
END:VEVENT

END:VCALENDAR
