BEGIN:VCALENDAR
VERSION:2.0
PRODID:-//ChamberMaster//Event Calendar 2.0//EN
METHOD:PUBLISH
X-PUBLISHED-TTL:P3D
REFRESH-INTERVAL:P3D
CALSCALE:GREGORIAN
BEGIN:VEVENT
DTSTART:20161015T193000Z
DTEND:20161015T233000Z
X-MICROSOFT-CDO-ALLDAYEVENT:FALSE
SUMMARY:YPN Nebraska Watch Party
DESCRIPTION:
X-ALT-DESC;FMTTYPE=text/html:
LOCATION:Fanatics Sports Bar & Grill 2021 Central Ave Kearney\, NE 68847
UID:e.1404.9065
SEQUENCE:3
DTSTAMP:20260421T140329Z
URL:https://members.kearneycoc.org/events/details/ypn-nebraska-watch-party-9065
END:VEVENT

END:VCALENDAR
