BEGIN:VCALENDAR
VERSION:2.0
PRODID:-//ChamberMaster//Event Calendar 2.0//EN
METHOD:PUBLISH
X-PUBLISHED-TTL:P3D
REFRESH-INTERVAL:P3D
CALSCALE:GREGORIAN
BEGIN:VEVENT
DTSTART:20150809T020000Z
DTEND:20150809T040000Z
X-MICROSOFT-CDO-ALLDAYEVENT:FALSE
SUMMARY:YPN Outdoor Movie
DESCRIPTION:Join Kearney's Young Professionals Network (YPN) for this year's movie in the park featuring a showing of "Big Hero 6".  Enjoy the nostalgia of an outdoor movie projected onto a GINORMOUS 16-FOOT SCREEN. Come early with your blanket or chair to grab a good spot on the grass. The movie will start at sundown around 9pm. See you Saturday!
X-ALT-DESC;FMTTYPE=text/html:<span style="font-family: Helvetica\, Arial\, 'lucida grande'\, tahoma\, verdana\, arial\, sans-serif\; font-size: 14px\; line-height: 20px\;">Join Kearney&#39\;s Young Professionals Network (YPN) for this year&#39\;s movie in the park featuring a showing of &quot\;Big Hero 6&quot\;. &nbsp\;Enjoy the nostalgia of an outdoor movie projected onto a GINORMOUS&nbsp\;16-FOOT SCREEN. Come early with your blanket or chair to grab a good spot on the grass.&nbsp\;The movie will start at sundown around 9pm</span><span class="text_exposed_show" style="display: inline\; font-family: Helvetica\, Arial\, 'lucida grande'\, tahoma\, verdana\, arial\, sans-serif\; font-size: 14px\; line-height: 20px\;">. See you Saturday!</span>
LOCATION:Yanney Park 2020 W. 11th St.
UID:e.1404.6491
SEQUENCE:3
DTSTAMP:20260422T114915Z
URL:https://members.kearneycoc.org/events/details/ypn-outdoor-movie-08-08-2015-6491
END:VEVENT

END:VCALENDAR
