BEGIN:VCALENDAR
VERSION:2.0
PRODID:-//ChamberMaster//Event Calendar 2.0//EN
METHOD:PUBLISH
X-PUBLISHED-TTL:P3D
REFRESH-INTERVAL:P3D
CALSCALE:GREGORIAN
BEGIN:VEVENT
DTSTART:20160814T020000Z
DTEND:20160814T040000Z
X-MICROSOFT-CDO-ALLDAYEVENT:FALSE
SUMMARY:YPN Outdoor Movie
DESCRIPTION:Join Kearney's Young Professionals Network (YPN) for this year's movie in the park featuring a showing of "Inside Out".  Enjoy the nostalgia of an outdoor movie projected onto a GINORMOUS 20-FOOT SCREEN. Come early with your blanket or chair to grab a good spot on the grass. The movie will start at sundown\, around 9pm. See you Saturday!
X-ALT-DESC;FMTTYPE=text/html:<span style="font-family: Arial\, Helvetica\, sans-serif\; font-size: 14.6667px\; line-height: 20.5333px\;">Join Kearney&#39\;s Young Professionals Network (YPN) for this year&#39\;s movie in the park featuring a showing of &quot\;Inside Out&quot\;. &nbsp\;Enjoy the nostalgia of an outdoor movie projected onto a&nbsp\;GINORMOUS&nbsp\;20-FOOT SCREEN. Come early with your blanket or chair to grab a good spot on the grass.&nbsp\;The movie will start at sundown\, around 9pm</span><span style="font-family: Arial\, Helvetica\, sans-serif\; font-size: 14.6667px\; line-height: 20.5333px\;">. See you Saturday!</span>
LOCATION:Yanney Park 2020 W. 11th St.
UID:e.1404.8537
SEQUENCE:3
DTSTAMP:20260421T153357Z
URL:https://members.kearneycoc.org/events/details/ypn-outdoor-movie-08-13-2016-8537
END:VEVENT

END:VCALENDAR
