BEGIN:VCALENDAR
VERSION:2.0
PRODID:-//ChamberMaster//Event Calendar 2.0//EN
METHOD:PUBLISH
X-PUBLISHED-TTL:P3D
REFRESH-INTERVAL:P3D
CALSCALE:GREGORIAN
BEGIN:VEVENT
DTSTART:20140817T020000Z
DTEND:20140816T050000Z
X-MICROSOFT-CDO-ALLDAYEVENT:FALSE
SUMMARY:YPN Outdoor Movie
DESCRIPTION:The movie will be Despicable Me.The movie will start at sundown\, but get there early to claim your spot for a chair or in the blanket section. Also we hope to see lots of live little minions\, in costume running around! Best kid's minion costume will win a prize. See You Saturday!\n\n\n\nClick here to become a sponsor
X-ALT-DESC;FMTTYPE=text/html:The movie will be Despicable Me.<span style="font-family: Helvetica\, Arial\, 'lucida grande'\, tahoma\, verdana\, arial\, sans-serif\; font-size: 14px\; line-height: 20px\;">The movie will start at sundown\, but get there early to</span><span class="text_exposed_show" style="display: inline\; font-family: Helvetica\, Arial\, 'lucida grande'\, tahoma\, verdana\, arial\, sans-serif\; font-size: 14px\; line-height: 20px\;">&nbsp\;claim your spot for a chair or in the blanket section. Also we hope to see lots of live little minions\, in costume running around! Best kid&#39\;s minion costume will win a prize. See You Saturday!</span><br />\n<br />\nClick <span style="font-size:12px\;"><a href="http://cloud.chambermaster.com/userfiles/UserFiles/chambers/1404/File/YPNMovieSponsorLetter2014Draft.pdf"><span style="color:#0000FF\;">here</span></a></span> to become a sponsor<br />\n&nbsp\;
LOCATION:Yanney Park
UID:e.1404.5163
SEQUENCE:3
DTSTAMP:20260423T101622Z
URL:https://members.kearneycoc.org/events/details/ypn-outdoor-movie-08-16-2014-5163
END:VEVENT

END:VCALENDAR
