BEGIN:VCALENDAR
VERSION:2.0
PRODID:-//ChamberMaster//Event Calendar 2.0//EN
METHOD:PUBLISH
X-PUBLISHED-TTL:P3D
REFRESH-INTERVAL:P3D
CALSCALE:GREGORIAN
BEGIN:VEVENT
DTSTART:20130228T180000Z
DTEND:20130228T190000Z
X-MICROSOFT-CDO-ALLDAYEVENT:FALSE
SUMMARY:YPN Personal & Professional Development
DESCRIPTION:Leadership Skills Expert Betty Streff with Ellison Partners will bring our members valuable information that will help them maximize their leadership abilities. RSVPs are encouraged and drop-ins are welcome!  \n\n \n\nRSVP to Jennie at jnollette@kearneycoc.org
X-ALT-DESC;FMTTYPE=text/html:<span style="color:#567a26\;"><span style="font-family:trebuchet ms\,sans-serif\;"><span style="font-size:9.0pt\;">Leadership Skills Expert Betty Streff with Ellison Partners will bring our members valuable information that will help them maximize their leadership abilities. RSVPs are encouraged and drop-ins are welcome! &nbsp\;</span></span></span><br />\n&nbsp\;<br />\n<span style="color:#567a26\;"><span style="font-family:trebuchet ms\,sans-serif\;"><span style="font-size:10.0pt\;">RSVP to Jennie at <a href="mailto:jnollette@kearneycoc.org" linktype="2" shape="rect" target="_blank">jnollette@kearneycoc.org&nbsp\;</a></span></span></span>
LOCATION:Kearney Public Library "Southwest Meeting Room"
UID:e.1404.2247
SEQUENCE:3
DTSTAMP:20260424T155516Z
URL:https://members.kearneycoc.org/events/details/ypn-personal-professional-development-02-28-2013-2247
END:VEVENT

END:VCALENDAR
