BEGIN:VCALENDAR
VERSION:2.0
PRODID:-//ChamberMaster//Event Calendar 2.0//EN
METHOD:PUBLISH
X-PUBLISHED-TTL:P3D
REFRESH-INTERVAL:P3D
CALSCALE:GREGORIAN
BEGIN:VEVENT
DTSTART:20140920T170000Z
DTEND:20140920T200000Z
X-MICROSOFT-CDO-ALLDAYEVENT:FALSE
SUMMARY:YPN Social Event-UNK Tailgate
DESCRIPTION:Enjoy food and drinks with your fellow YP's and guests at the first ever YPN Tailgate prior to the UNK Homecoming game on September 20 from 12-3 PM.\n\n\n\nYPN will provide the food. \n\n\n\nBring your own drinks\, alcohol will be available to purchase in the festival zone.\n\n\n\nOne lucky attendee may event win a prize package from the Nebraska Beef Council.
X-ALT-DESC;FMTTYPE=text/html:Enjoy food and drinks with your fellow YP&#39\;s and guests at the first ever YPN Tailgate prior to the UNK&nbsp\;Homecoming game on September 20 from 12-3 PM.<br />\n<br />\nYPN will provide the food.&nbsp\;<br />\n<br />\nBring your own drinks\, alcohol will be available to purchase in the festival zone.<br />\n<br />\nOne lucky attendee may event win a prize package from the Nebraska Beef Council.
LOCATION:UNK Loperville Tailgating Area-UNK (south of Cope Stadium)
UID:e.1404.5354
SEQUENCE:3
DTSTAMP:20260423T065752Z
URL:https://members.kearneycoc.org/events/details/ypn-social-event-unk-tailgate-09-20-2014-5354
END:VEVENT

END:VCALENDAR
