BEGIN:VCALENDAR
VERSION:2.0
PRODID:-//ChamberMaster//Event Calendar 2.0//EN
METHOD:PUBLISH
X-PUBLISHED-TTL:P3D
REFRESH-INTERVAL:P3D
CALSCALE:GREGORIAN
BEGIN:VEVENT
DTSTART:20130918T223000Z
DTEND:20130918T223000Z
X-MICROSOFT-CDO-ALLDAYEVENT:FALSE
SUMMARY:YPN - Trapshooting
DESCRIPTION:Whether you are an avid shooter or never held a gun\, come join YPN to test your skills at the Trap Shooting event.
X-ALT-DESC;FMTTYPE=text/html:<span style="color:#828282\;"><span style="font-family:georgia\,serif\;"><span style="font-size:12.0pt\;">Whether you are an avid shooter or never held a gun\, come join YPN to test your skills at the Trap Shooting event.&nbsp\;</span></span></span>
LOCATION:Fort Kearny Shooting Sports Complex 115 & Poole Avenue
UID:e.1404.3306
SEQUENCE:3
DTSTAMP:20260424T020524Z
URL:https://members.kearneycoc.org/events/details/ypn-trapshooting-09-18-2013-3306
END:VEVENT

END:VCALENDAR
