BEGIN:VCALENDAR
VERSION:2.0
PRODID:-//ChamberMaster//Event Calendar 2.0//EN
METHOD:PUBLISH
X-PUBLISHED-TTL:P3D
REFRESH-INTERVAL:P3D
CALSCALE:GREGORIAN
BEGIN:VEVENT
DTSTART:20151024T180000Z
DTEND:20151024T230000Z
X-MICROSOFT-CDO-ALLDAYEVENT:FALSE
SUMMARY:ZOMBIES ATTACK A Run For Your Life
DESCRIPTION:Race through the zombie infested landscape of a post-apocalyptic wasteland. Scale obstacles and outrun the undead as you navigate a two mile course outside The Archway in Kearney. On October 24\, 2015\, Crane River Theater will host our second Zombies Attack: A Run for your Life. Sign up as a Runner\, Zombie or Volunteer. Runners will attempt to outrun the undead\, as the Zombies will pursue runners in an effort to secure their life flags. When the dead start walking\, you better start running! Schedule of Events: 12 ? 1 pm ? Zombie Check-In 1 ? 3 pm ? Zombie Training 101 3 ? 4 pm ? Runner Check-In 4 ? 6 pm ? ZOMBIE RUN 6pm Survivor Awards ONLINE REGISTRATION CraneRiverTheater.org (Now through October 23) $25 (Includes T-Shirt) DAY OF REGISTRATION (October 24) $30 (T-Shirt subject to availability) Register as a Runner* or Zombie** *You must be 12 or older to participate as a ?Runner? ** You must be 16 or older to participate as a ?Zombie?
X-ALT-DESC;FMTTYPE=text/html:Race through the zombie infested landscape of a post-apocalyptic wasteland. Scale obstacles and outrun the undead as you navigate a two mile course outside The Archway in Kearney. On October 24\, 2015\, Crane River Theater will host our second Zombies Attack: A Run for your Life. Sign up as a Runner\, Zombie or Volunteer. Runners will attempt to outrun the undead\, as the Zombies will pursue runners in an effort to secure their life flags. When the dead start walking\, you better start running! Schedule of Events: 12 ? 1 pm ? Zombie Check-In 1 ? 3 pm ? Zombie Training 101 3 ? 4 pm ? Runner Check-In 4 ? 6 pm ? ZOMBIE RUN 6pm Survivor Awards ONLINE REGISTRATION CraneRiverTheater.org (Now through October 23) $25 (Includes T-Shirt) DAY OF REGISTRATION (October 24) $30 (T-Shirt subject to availability) Register as a Runner* or Zombie** *You must be 12 or older to participate as a ?Runner? ** You must be 16 or older to participate as a ?Zombie?
LOCATION:The Archway 3060 East 1st Street Kearney\, NE 68847
UID:e.1404.7019
SEQUENCE:3
DTSTAMP:20260422T083728Z
URL:https://members.kearneycoc.org/events/details/zombies-attack-a-run-for-your-life-10-24-2015-7019
END:VEVENT

END:VCALENDAR
